BEGIN:VCALENDAR
VERSION:2.0
PRODID:-//hacksw/handcal//NONSGML v1.0//EN
BEGIN:VEVENT
SUMMARY:Challenge Omnisports
UID:61f7279e-4f5a-4b31-a61c-4a83585156b7
DTSTART:20260302T090000Z
DTEND:20260302T153000Z
LOCATION:Localisation Stade de ma ville 72000 LE MANS
CATEGORIES:Sportif
STATUS:
DESCRIPTION:<p>Le challenge Omnisports organise par le club debutera
 sur le grand stade de la ville.<br>Les prix seront remis en
 soiree.</p>
URL;VALUE=URI:https://armerie.sportsregions.fr/evenements/2026/03/02/challenge-omnisports-2422731
END:VEVENT
END:VCALENDAR
